BEGIN:VCALENDAR
VERSION:2.0
PRODID:-//Dorian Gray - Discoteca Verona - ECPv6.15.20//NONSGML v1.0//EN
CALSCALE:GREGORIAN
METHOD:PUBLISH
X-WR-CALNAME:Dorian Gray - Discoteca Verona
X-ORIGINAL-URL:https://www.discotecadoriangray.it
X-WR-CALDESC:Eventi per Dorian Gray - Discoteca Verona
REFRESH-INTERVAL;VALUE=DURATION:PT1H
X-Robots-Tag:noindex
X-PUBLISHED-TTL:PT1H
BEGIN:VTIMEZONE
TZID:Europe/Rome
BEGIN:DAYLIGHT
TZOFFSETFROM:+0100
TZOFFSETTO:+0200
TZNAME:CEST
DTSTART:20250330T010000
END:DAYLIGHT
BEGIN:STANDARD
TZOFFSETFROM:+0200
TZOFFSETTO:+0100
TZNAME:CET
DTSTART:20251026T010000
END:STANDARD
BEGIN:DAYLIGHT
TZOFFSETFROM:+0100
TZOFFSETTO:+0200
TZNAME:CEST
DTSTART:20260329T010000
END:DAYLIGHT
BEGIN:STANDARD
TZOFFSETFROM:+0200
TZOFFSETTO:+0100
TZNAME:CET
DTSTART:20261025T010000
END:STANDARD
BEGIN:DAYLIGHT
TZOFFSETFROM:+0100
TZOFFSETTO:+0200
TZNAME:CEST
DTSTART:20270328T010000
END:DAYLIGHT
BEGIN:STANDARD
TZOFFSETFROM:+0200
TZOFFSETTO:+0100
TZNAME:CET
DTSTART:20271031T010000
END:STANDARD
END:VTIMEZONE
BEGIN:VEVENT
DTSTART;TZID=Europe/Rome:20260430T220000
DTEND;TZID=Europe/Rome:20260501T040000
DTSTAMP:20260424T135538
CREATED:20260320T110156Z
LAST-MODIFIED:20260320T110249Z
UID:7210-1777586400-1777608000@www.discotecadoriangray.it
SUMMARY:AFRO FUNKY ALL STAR | Atto II – Giovedì 30 Aprile
DESCRIPTION:[vc_row][vc_column icons_position=”left”][vc_btn title=”BIGLIETTI ONLINE” color=”green” align=”center” css=”” link=”url:https%3A%2F%2Fwww.ticketsms.it%2Flocation%2FDorian-Gray”][vc_column_text css=””] \n\n\n🔥 TORNA E FA ANCORA PIÙ RUMORE. 🔥\nDopo il grande successo dello scorso anno l’Afro Funky All Stars torna al Dorian Gray con un nuovo capitolo più ritmo più anima più voglia di ballare 💿🕺🏾💃🏾\nQuesta non è una replica è l’Atto II stessa passione energia più forte emozioni che si sentono nello stomaco ❤️💛🖤 \n📅 Giovedì 30 aprile 2026\nPrefestivo\n⏰ Si balla fino a tardi\n📍 Dorian Gray Via Belobono 13 Cadidavid – Verona\nSegna la data non prendere impegni questa notte è sacra 😎🔥\nEcco gli ALL STARS ufficiali | Afro Funky All Stars – Atto II\n🎧 Yano\n🎧 Morgan\n🎧 Cikcio\n🎧 Spranga\n🎧 Rubens\n🎧 Alex\nUna squadra che parla la stessa lingua\, ritmo\, esperienza e storia vera ❤️💛🖤\nNon è una semplice serata è un incontro di percorsi è musica suonata con le mani con il cuore con la memoria 🕺🏾💃🏾 \n📲 Info e prenotazioni\nWhatsApp 045 540 206\n348 401 9944 Cikcio\nAfro Funky All Stars – Atto II Il richiamo è partito. Verona risponde. 💿🔥 \nNB: \n\n\n\nSarà possibile entrare acquistando il biglietto in ingresso fino a termine dei posti disponibili\n\n[/vc_column_text][/vc_column][/vc_row][vc_row][vc_column icons_position=”left”][/vc_column][/vc_row]
URL:https://www.discotecadoriangray.it/event/baldorian-venerdi-20-marzo-2/
LOCATION:Dorian Gray\, Via Belobono 13\, Verona\, 37135\, Italia
ATTACH;FMTTYPE=image/jpeg:https://www.discotecadoriangray.it/wp-content/uploads/2026/03/POST-9.jpg
END:VEVENT
BEGIN:VEVENT
DTSTART;TZID=Europe/Rome:20260501T230000
DTEND;TZID=Europe/Rome:20260502T040000
DTSTAMP:20260424T135538
CREATED:20260424T095246Z
LAST-MODIFIED:20260424T095839Z
UID:7305-1777676400-1777694400@www.discotecadoriangray.it
SUMMARY:PEOPLE HAVE THE POWER - Venerdì 01 Maggio
DESCRIPTION:[vc_row][vc_column icons_position=”left”][vc_btn title=”BIGLIETTI ONLINE” color=”green” align=”center” css=”” link=”url:https%3A%2F%2Fwww.ticketsms.it%2Flocation%2FDorian-Gray”][vc_column_text css=””] \n\n\n💜 PEOPLE HAVE THE POWER – L’ENERGIA SEI TU 💜 \nC’è un momento in cui tutto cambia.\nLa musica parte\, la pista si accende e l’energia prende forma da chi la vive – diretta\, intensa\, senza filtri. ⚡️🎶 \nUna notte dove il ritmo unisce e ogni istante nasce da quello che porti tu in pista. \n📅 Venerdì 1 maggio \n🎤 Dinner Live Show – Alex De Magistris\n🎧 Main Room – DJ Ramon Ramonito & DJ Nasti – Hits anni 80/90/2000\n🔥 Privé – Osmel y Leidy Salsa con DJ Nikky – Disco Latino \n✨ Evento Over 30\n👠 Donna free entro mezzanotte \n📍 Dorian Gray – Via Belobono 13\, Cadidavid VR\n📲 Info e prenotazioni – 045 540206 – WhatsApp \n#discotecadoriangray #lanottediverona #over30night #peoplehavethepower \n \nNB: \n\n\n\nSarà possibile entrare acquistando il biglietto in ingresso fino a termine dei posti disponibili\n\n[/vc_column_text][/vc_column][/vc_row][vc_row][vc_column icons_position=”left”][/vc_column][/vc_row]
URL:https://www.discotecadoriangray.it/event/people-have-the-power-venerdi-01-maggio/
LOCATION:Dorian Gray\, Via Belobono 13\, Verona\, 37135\, Italia
ATTACH;FMTTYPE=image/jpeg:https://www.discotecadoriangray.it/wp-content/uploads/2026/04/POST-9.jpg
END:VEVENT
BEGIN:VEVENT
DTSTART;TZID=Europe/Rome:20260502T230000
DTEND;TZID=Europe/Rome:20260503T040000
DTSTAMP:20260424T135538
CREATED:20260424T100011Z
LAST-MODIFIED:20260424T100011Z
UID:7311-1777762800-1777780800@www.discotecadoriangray.it
SUMMARY:LIPSTICK - Sabato 02 Maggio
DESCRIPTION:[vc_row][vc_column icons_position=”left”][vc_btn title=”BIGLIETTI ONLINE” color=”green” align=”center” css=”” link=”url:https%3A%2F%2Fwww.ticketsms.it%2Flocation%2FDorian-Gray”][vc_column_text css=””] \n\n\n💋 LIPSTICK – SPRING EDITION 💋 \n📅 Sabato 2 Maggio 2026 📅 \nAtmosfere più leggere\, ma energia sempre al massimo.\nLipstick torna con una notte che profuma di primavera\, tra musica che ti prende subito e vibrazioni che scorrono senza fermarsi. 🌸🔥 \nIn consolle Stefano Mattara (Radio WOW)\nShow con i nostri Lipstick Boys\nNel privé si viaggia tra techno e tech house con DJ Lewi from LOOP \n👠 Donne: 7€ con 1 drink entro mezzanotte\n📲 Prenota il tuo tavolo 👉 045540206 \nUna di quelle notti che partono leggere… e finiscono fortissime. ❤️‍🔥 \n#lipsticknight #discotecadoriangray #lanottediverona #lavidasevivebailando \nNB: \n\n\n\nSarà possibile entrare acquistando il biglietto in ingresso fino a termine dei posti disponibili\n\n[/vc_column_text][/vc_column][/vc_row][vc_row][vc_column icons_position=”left”][/vc_column][/vc_row]
URL:https://www.discotecadoriangray.it/event/lipstick-sabato-02-maggio/
LOCATION:Dorian Gray\, Via Belobono 13\, Verona\, 37135\, Italia
ATTACH;FMTTYPE=image/jpeg:https://www.discotecadoriangray.it/wp-content/uploads/2026/04/POST-10.jpg
END:VEVENT
BEGIN:VEVENT
DTSTART;TZID=Europe/Rome:20260503T210000
DTEND;TZID=Europe/Rome:20260504T010000
DTSTAMP:20260424T135538
CREATED:20260424T100641Z
LAST-MODIFIED:20260424T100641Z
UID:7315-1777842000-1777856400@www.discotecadoriangray.it
SUMMARY:Fiesta Latina - Domenica 03 Maggio
DESCRIPTION:[vc_row][vc_column icons_position=”left”][vc_column_text css=””] \n\nUna domenica che accende la pista dal primo momento. 🔥🌴 \nIl 3 maggio la Fiesta Latina torna con una serata piena di ritmo\, energia e voglia di ballare senza pensieri. \nOspiti della notte:\n💃 Caribbean Dancing – pronti a portare in pista passione e vibrazioni caraibiche che si fanno sentire \nTra un momento e l’altro\, la musica non si ferma con salsa e bachata accompagnate da:\n🎧 Dario Dj & Nikky Dj – Main Room\n🥁 Live percussion con Roberto Sabroso \n📅 Domenica 3 Maggio | dalle 21:00 all’01:00\n💸 Ingresso 10€ con 1 drink incluso \nUna di quelle serate da vivere tutta\, fino all’ultimo pezzo. 💃🕺 \n#fiestalatina #doriangray #salsaebachata #domenicalatina \n\n[/vc_column_text][/vc_column][/vc_row][vc_row][vc_column icons_position=”left”][/vc_column][/vc_row]
URL:https://www.discotecadoriangray.it/event/fiesta-latina-domenica-03-maggio/
LOCATION:Dorian Gray\, Via Belobono 13\, Verona\, 37135\, Italia
ATTACH;FMTTYPE=image/jpeg:https://www.discotecadoriangray.it/wp-content/uploads/2026/04/POST-11.jpg
END:VEVENT
END:VCALENDAR