BEGIN:VCALENDAR
VERSION:2.0
PRODID:-//Dorian Gray - Discoteca Verona - ECPv6.15.20//NONSGML v1.0//EN
CALSCALE:GREGORIAN
METHOD:PUBLISH
X-ORIGINAL-URL:https://www.discotecadoriangray.it
X-WR-CALDESC:Eventi per Dorian Gray - Discoteca Verona
REFRESH-INTERVAL;VALUE=DURATION:PT1H
X-Robots-Tag:noindex
X-PUBLISHED-TTL:PT1H
BEGIN:VTIMEZONE
TZID:Europe/Rome
BEGIN:DAYLIGHT
TZOFFSETFROM:+0100
TZOFFSETTO:+0200
TZNAME:CEST
DTSTART:20250330T010000
END:DAYLIGHT
BEGIN:STANDARD
TZOFFSETFROM:+0200
TZOFFSETTO:+0100
TZNAME:CET
DTSTART:20251026T010000
END:STANDARD
BEGIN:DAYLIGHT
TZOFFSETFROM:+0100
TZOFFSETTO:+0200
TZNAME:CEST
DTSTART:20260329T010000
END:DAYLIGHT
BEGIN:STANDARD
TZOFFSETFROM:+0200
TZOFFSETTO:+0100
TZNAME:CET
DTSTART:20261025T010000
END:STANDARD
BEGIN:DAYLIGHT
TZOFFSETFROM:+0100
TZOFFSETTO:+0200
TZNAME:CEST
DTSTART:20270328T010000
END:DAYLIGHT
BEGIN:STANDARD
TZOFFSETFROM:+0200
TZOFFSETTO:+0100
TZNAME:CET
DTSTART:20271031T010000
END:STANDARD
END:VTIMEZONE
BEGIN:VEVENT
DTSTART;TZID=Europe/Rome:20260418T230000
DTEND;TZID=Europe/Rome:20260419T040000
DTSTAMP:20260419T213240
CREATED:20260408T163134Z
LAST-MODIFIED:20260408T163134Z
UID:7275-1776553200-1776571200@www.discotecadoriangray.it
SUMMARY:DORIAN 2000 | Tributo Daddy Yankee - Sabato 18 Aprile
DESCRIPTION:[vc_row][vc_column icons_position=”left”][vc_btn title=”BIGLIETTI ONLINE” color=”green” align=”center” css=”” link=”url:https%3A%2F%2Fwww.ticketsms.it%2Flocation%2FDorian-Gray”][vc_column_text css=””] \n\n\n🔥 DORIAN 2000 EXPLOSION – TRIBUTO A DADDY YANKEE 🔥 \n📅 Sabato 18 Aprile 2026 📅 \nUna notte che parla chiaro fin dal primo beat.\nIl Dorian Gray rende omaggio a Daddy Yankee\, tra hit che hanno fatto la storia e ritmi che accendono la pista senza pensarci due volte. 🎶 \nDa Gasolina a tutti quei pezzi che partono… e il locale canta in automatico.\nReggaeton\, energia e vibrazioni anni 2000 che fanno muovere tutti\, dall’inizio alla fine. 💃🔥 \nIn main room il ritmo prende forma con DJ Stefano Mattara e la voce di Francesca Toffanin\, mentre nel privé si cambia viaggio tra techno e tech house con LOOP x Sons of Ibiza. 🔊 \n🎟️ 10€ con 1 drink entro mezzanotte \nUna di quelle serate che non si stanno a guardare: si vivono. ❤️‍🔥 \n#dorian2000explosion #daddyyankee #discotecadoriangray #lanottediverona #radiowow \nNB: \n\n\n\nSarà possibile entrare acquistando il biglietto in ingresso fino a termine dei posti disponibili\n\n[/vc_column_text][/vc_column][/vc_row][vc_row][vc_column icons_position=”left”][/vc_column][/vc_row]
URL:https://www.discotecadoriangray.it/event/dorian-2000-tributo-daddy-yankee-sabato-18-aprile/
LOCATION:Dorian Gray\, Via Belobono 13\, Verona\, 37135\, Italia
ATTACH;FMTTYPE=image/jpeg:https://www.discotecadoriangray.it/wp-content/uploads/2026/04/POST-4.jpg
END:VEVENT
BEGIN:VEVENT
DTSTART;TZID=Europe/Rome:20260419T210000
DTEND;TZID=Europe/Rome:20260420T010000
DTSTAMP:20260419T213240
CREATED:20260410T143315Z
LAST-MODIFIED:20260410T143315Z
UID:7280-1776632400-1776646800@www.discotecadoriangray.it
SUMMARY:Fiesta Latina - Domenica 19 Aprile
DESCRIPTION:[vc_row][vc_column icons_position=”left”][vc_column_text css=””] \n\nUna domenica che riporta il ritmo al centro della scena. 🔥🌴 \nIl 19 aprile la Fiesta Latina torna a farsi sentire con una serata fatta di energia\, musica e connessioni vere in pista. \nTra un momento e l’altro\, la pista resta viva con salsa e bachata\, accompagnata da:\n🎧 Dario Dj & Nikky Dj – Main Room\n🥁 Live percussion con Roberto Sabroso \n📅 Domenica 19 Aprile | dalle 21:00 all’01:00\n💸 Ingresso 10€ con 1 drink incluso \nUna di quelle serate che scorrono veloci… ma restano addosso. 💃🕺 \n#fiestalatina #doriangray #salsaebachata #domenicalatina \n\n[/vc_column_text][/vc_column][/vc_row][vc_row][vc_column icons_position=”left”][/vc_column][/vc_row]
URL:https://www.discotecadoriangray.it/event/fiesta-latina-domenica-19-aprile/
LOCATION:Dorian Gray\, Via Belobono 13\, Verona\, 37135\, Italia
ATTACH;FMTTYPE=image/jpeg:https://www.discotecadoriangray.it/wp-content/uploads/2026/04/POST-5.jpg
END:VEVENT
BEGIN:VEVENT
DTSTART;TZID=Europe/Rome:20260424T230000
DTEND;TZID=Europe/Rome:20260425T040000
DTSTAMP:20260419T213240
CREATED:20260417T140234Z
LAST-MODIFIED:20260417T140234Z
UID:7290-1777071600-1777089600@www.discotecadoriangray.it
SUMMARY:80'ISSIMA - Venerdì 24 Aprile
DESCRIPTION:[vc_row][vc_column icons_position=”left”][vc_btn title=”BIGLIETTI ONLINE” color=”green” align=”center” css=”” link=”url:https%3A%2F%2Fwww.ticketsms.it%2Flocation%2FDorian-Gray”][vc_column_text css=””] \n\n\n🎸 80’ISSIMA – ROCK THE NIGHT 🎸 \nCapelli voluminosi\, chitarre che graffiano e hit che hanno fatto la storia.\n80’ISSIMA torna con tutta l’attitudine degli anni ’80 – diretta\, potente\, impossibile da ignorare. 🔥🎶 \nUna serata dove il ritmo prende il comando e ogni pezzo è un viaggio tra energia pura e nostalgia che accende la pista. \n📅 Venerdì 24 aprile \n🎤 Dinner Live Show – Gianluca Indovino\n🎧 Main Room – DJ Ramon Ramonito & DJ Nasti – Hits anni 80/90/2000\n🔥 Privé – Harlem y Lily de Cuba con DJ Nikky – Disco Latino \n✨ Evento Over 30\n👠 Donna free entro mezzanotte \n📍 Dorian Gray – Via Belobono 13\, Cadidavid VR\n📲 Info e prenotazioni – 045 540206 (anche WhatsApp) \n#80issima #discotecadoriangray #lanottediverona #over30night \n \nNB: \n\n\n\nSarà possibile entrare acquistando il biglietto in ingresso fino a termine dei posti disponibili\n\n[/vc_column_text][/vc_column][/vc_row][vc_row][vc_column icons_position=”left”][/vc_column][/vc_row]
URL:https://www.discotecadoriangray.it/event/80issima-venerdi-24-aprile/
LOCATION:Dorian Gray\, Via Belobono 13\, Verona\, 37135\, Italia
ATTACH;FMTTYPE=image/jpeg:https://www.discotecadoriangray.it/wp-content/uploads/2026/04/POST-7.jpg
END:VEVENT
BEGIN:VEVENT
DTSTART;TZID=Europe/Rome:20260425T230000
DTEND;TZID=Europe/Rome:20260426T040000
DTSTAMP:20260419T213240
CREATED:20260417T141231Z
LAST-MODIFIED:20260417T141231Z
UID:7295-1777158000-1777176000@www.discotecadoriangray.it
SUMMARY:BESAME - Sabato 25 Aprile
DESCRIPTION:[vc_row][vc_column icons_position=”left”][vc_btn title=”BIGLIETTI ONLINE” color=”green” align=”center” css=”” link=”url:https%3A%2F%2Fwww.ticketsms.it%2Flocation%2FDorian-Gray”][vc_column_text css=””] \n\n\n🌺 BÉSAME 🌺 \n📅 Sabato 25 Aprile 📅 \nUn mix di colori\, ritmo e libertà.\nBésame torna con una notte piena di vibrazioni latine\, musica che entra subito in testa e un’energia che cresce passo dopo passo. 🔥 \nSi canta\, si balla\, ci si lascia andare.\nLa pista prende vita e resta accesa fino alla fine\, tra momenti spontanei e pura voglia di divertirsi. 💃🕺 \n🎟️ Ingresso: 16€ con 1 drink tutta la notte\n📍 Dorian Gray – Via Belobono 13\, Cadidavid VR\n📲 Info e prenotazioni – 045 540206 (anche WhatsApp) \nLa notte giusta per vivere tutto\, senza rimandare. ❤️‍🔥 \n#besame #discotecadoriangray #lanottediverona #lavidasevivebailando \nNB: \n\n\n\nSarà possibile entrare acquistando il biglietto in ingresso fino a termine dei posti disponibili\n\n[/vc_column_text][/vc_column][/vc_row][vc_row][vc_column icons_position=”left”][/vc_column][/vc_row]
URL:https://www.discotecadoriangray.it/event/besame-sabato-25-aprile/
LOCATION:Dorian Gray\, Via Belobono 13\, Verona\, 37135\, Italia
ATTACH;FMTTYPE=image/jpeg:https://www.discotecadoriangray.it/wp-content/uploads/2026/04/25_04-Post-Doriangray.jpg
END:VEVENT
BEGIN:VEVENT
DTSTART;TZID=Europe/Rome:20260426T210000
DTEND;TZID=Europe/Rome:20260427T010000
DTSTAMP:20260419T213240
CREATED:20260417T141659Z
LAST-MODIFIED:20260417T141659Z
UID:7299-1777237200-1777251600@www.discotecadoriangray.it
SUMMARY:Fiesta Latina - Domenica 26 Aprile
DESCRIPTION:[vc_row][vc_column icons_position=”left”][vc_column_text css=””] \n\nUna domenica che riaccende i ricordi… e la pista. 🔥💃 \nIl 26 aprile la Fiesta Latina torna in versione Salsa Revival\, con un’atmosfera che richiama le vibrazioni più autentiche e senza tempo. 🌴✨ \nOspiti della notte:\n💛 El Flaco Bailador con lo show “Vamos a timbear”\n❤️ Swing Salsero\nDue realtà diverse\, un’unica energia: quella che si sente davvero quando parte la musica \nTra un momento e l’altro\, la pista resta viva con salsa e bachata accompagnate da:\n🎧 Dario Dj & Nikky Dj – Main Room\n🥁 Live percussion con Roberto Sabroso \n📅 Domenica 26 Aprile | dalle 21:00 all’01:00\n💸 Ingresso 10€ con 1 drink incluso \nUna notte dal sapore classico… ma impossibile da fermare. 💃🕺 \n#fiestalatina #doriangray #salsarevival #domenicalatina \n\n[/vc_column_text][/vc_column][/vc_row][vc_row][vc_column icons_position=”left”][/vc_column][/vc_row]
URL:https://www.discotecadoriangray.it/event/fiesta-latina-domenica-26-aprile/
LOCATION:Dorian Gray\, Via Belobono 13\, Verona\, 37135\, Italia
ATTACH;FMTTYPE=image/jpeg:https://www.discotecadoriangray.it/wp-content/uploads/2026/04/POST-8.jpg
END:VEVENT
BEGIN:VEVENT
DTSTART;TZID=Europe/Rome:20260430T220000
DTEND;TZID=Europe/Rome:20260501T040000
DTSTAMP:20260419T213240
CREATED:20260320T110156Z
LAST-MODIFIED:20260320T110249Z
UID:7210-1777586400-1777608000@www.discotecadoriangray.it
SUMMARY:AFRO FUNKY ALL STAR | Atto II – Giovedì 30 Aprile
DESCRIPTION:[vc_row][vc_column icons_position=”left”][vc_btn title=”BIGLIETTI ONLINE” color=”green” align=”center” css=”” link=”url:https%3A%2F%2Fwww.ticketsms.it%2Flocation%2FDorian-Gray”][vc_column_text css=””] \n\n\n🔥 TORNA E FA ANCORA PIÙ RUMORE. 🔥\nDopo il grande successo dello scorso anno l’Afro Funky All Stars torna al Dorian Gray con un nuovo capitolo più ritmo più anima più voglia di ballare 💿🕺🏾💃🏾\nQuesta non è una replica è l’Atto II stessa passione energia più forte emozioni che si sentono nello stomaco ❤️💛🖤 \n📅 Giovedì 30 aprile 2026\nPrefestivo\n⏰ Si balla fino a tardi\n📍 Dorian Gray Via Belobono 13 Cadidavid – Verona\nSegna la data non prendere impegni questa notte è sacra 😎🔥\nEcco gli ALL STARS ufficiali | Afro Funky All Stars – Atto II\n🎧 Yano\n🎧 Morgan\n🎧 Cikcio\n🎧 Spranga\n🎧 Rubens\n🎧 Alex\nUna squadra che parla la stessa lingua\, ritmo\, esperienza e storia vera ❤️💛🖤\nNon è una semplice serata è un incontro di percorsi è musica suonata con le mani con il cuore con la memoria 🕺🏾💃🏾 \n📲 Info e prenotazioni\nWhatsApp 045 540 206\n348 401 9944 Cikcio\nAfro Funky All Stars – Atto II Il richiamo è partito. Verona risponde. 💿🔥 \nNB: \n\n\n\nSarà possibile entrare acquistando il biglietto in ingresso fino a termine dei posti disponibili\n\n[/vc_column_text][/vc_column][/vc_row][vc_row][vc_column icons_position=”left”][/vc_column][/vc_row]
URL:https://www.discotecadoriangray.it/event/baldorian-venerdi-20-marzo-2/
LOCATION:Dorian Gray\, Via Belobono 13\, Verona\, 37135\, Italia
ATTACH;FMTTYPE=image/jpeg:https://www.discotecadoriangray.it/wp-content/uploads/2026/03/POST-9.jpg
END:VEVENT
END:VCALENDAR